BEGIN:VCALENDAR
VERSION:2.0
PRODID:-//Tukios.com/
BEGIN:VEVENT
UID:6fad51d8-fa69-4a68-84eb-90c2050ac4a5@www.collinsfuneralhomewv.com
DTSTAMP:20260421T013151Z
DTSTART:20260425T000000Z
DTEND:20260425T010000Z
SUMMARY:Funeral Service
DESCRIPTION:
URL:https://www.collinsfuneralhomewv.com/obituaries/christine-hobbs
LOCATION: 5452 Jerry W Hwy  Switzer WV 25647
GEO:37.7910358;-81.990545
END:VEVENT
END:VCALENDAR