BEGIN:VCALENDAR
VERSION:2.0
PRODID:-//Tukios.com/
BEGIN:VEVENT
UID:aa205e0c-546e-4384-8471-b3f686ec9ef2@www.collinsfuneralhomewv.com
DTSTAMP:20260421T013053Z
DTSTART:20260424T220000Z
DTEND:20260425T000000Z
SUMMARY:Visitation
DESCRIPTION:
URL:https://www.collinsfuneralhomewv.com/obituaries/christine-hobbs
LOCATION: 5452 Jerry W Hwy  Switzer WV 25647
GEO:37.7910358;-81.990545
END:VEVENT
END:VCALENDAR